BEGIN:VCALENDAR
VERSION:2.0
PRODID:icalendar-ruby
CALSCALE:GREGORIAN
METHOD:PUBLISH
BEGIN:VEVENT
DTSTAMP:20260425T023243Z
UID:5-1057012@yeseniathen.com
DTSTART:20261101T190000Z
DTEND:20261101T200000Z
CLASS:PUBLIC
CREATED:20260424T191805
DESCRIPTION:Sunday Worship
LAST-MODIFIED:20260424T191805
LOCATION:
SUMMARY:Sunday Worship
URL;VALUE=URI:https://www.yeseniathen.com/events/sunday-worship/2026-11-01
END:VEVENT
END:VCALENDAR
