BEGIN:VCALENDAR
VERSION:2.0
PRODID:icalendar-ruby
CALSCALE:GREGORIAN
METHOD:PUBLISH
BEGIN:VEVENT
DTSTAMP:20260425T004844Z
UID:5-1056632@yeseniathen.com
DTSTART:20261025T180000Z
DTEND:20261025T190000Z
CLASS:PUBLIC
CREATED:20260424T162847
DESCRIPTION:Sunday Worship
LAST-MODIFIED:20260424T162847
LOCATION:
SUMMARY:Sunday Worship
URL;VALUE=URI:https://www.yeseniathen.com/events/sunday-worship/2026-10-25
END:VEVENT
END:VCALENDAR
