BEGIN:VCALENDAR
VERSION:2.0
PRODID:icalendar-ruby
CALSCALE:GREGORIAN
METHOD:PUBLISH
BEGIN:VEVENT
DTSTAMP:20260424T121038Z
UID:5-1054729@yeseniathen.com
DTSTART:20260906T180000Z
DTEND:20260906T190000Z
CLASS:PUBLIC
CREATED:20260423T194537
DESCRIPTION:Sunday Worship
LAST-MODIFIED:20260423T194537
LOCATION:
SUMMARY:Sunday Worship
URL;VALUE=URI:https://www.yeseniathen.com/events/sunday-worship/2026-09-06
END:VEVENT
END:VCALENDAR
